BEGIN:VCALENDAR
VERSION:2.0
PRODID:-//5th Avenue Princess - ECPv6.6.4.2//NONSGML v1.0//EN
CALSCALE:GREGORIAN
METHOD:PUBLISH
X-WR-CALNAME:5th Avenue Princess
X-ORIGINAL-URL:https://5thavenueprincess.com
X-WR-CALDESC:Veranstaltungen für 5th Avenue Princess
REFRESH-INTERVAL;VALUE=DURATION:PT1H
X-Robots-Tag:noindex
X-PUBLISHED-TTL:PT1H
BEGIN:VTIMEZONE
TZID:UTC
BEGIN:STANDARD
TZOFFSETFROM:+0000
TZOFFSETTO:+0000
TZNAME:UTC
DTSTART:20250101T000000
END:STANDARD
END:VTIMEZONE
BEGIN:VEVENT
DTSTART;TZID=UTC:20250304T150000
DTEND;TZID=UTC:20250304T160000
DTSTAMP:20260425T161651
CREATED:20230314T201026Z
LAST-MODIFIED:20250112T225644Z
UID:10589-1741100400-1741104000@5thavenueprincess.com
SUMMARY:🚀 Kostenlose ‼️ Informations-Veranstaltung für Designer und Brands ✨
DESCRIPTION:Info-Veranstaltung für Brands & Designer*/innen der Veranstaltungsreihe „BRANDS MEET FASHION & MORE“   \nMit unserer kostenlosen Info-Veranstaltung der Veranstaltungsreihe\, „Fashion meets Brand & more“ – mit hippen Brands und neuen Designern aus den Bereichen Fashion\, Beauty; Accessoires; Jewellery & Living! \nSeminar / Show (online) \nHallo liebe Designer*innen und Brands\, \nmit unserer neuen Veranstaltungsreihe „Fashion meets Brand & more“ möchten wir Ihnen die Möglichkeit bieten\, dass Sie sich direkt mit Einzelhändlerinnen auszutauschen und eure Kollektionen und Waren vorzustellen. Bei unseren Seminaren/Shows haben Sie die Möglichkeit\, direkt mit den deutschlandweiten renommierten Einzelhändlern in Kontakt zu treten und Ihre Kollektionen und Waren vorzustellen. Verpassen Sie nicht diese Chance\, Ihre Marke zu präsentieren und Ihr Vertriebs-Netzwerk zu erweitern! \nAls Partner des Handelsverbands Baden-Württemberg profitieren wir von dessen umfassenden Netzwerk und Erfahrung im Einzelhandel. Wir arbeiten eng mit ihnen zusammen\, um sicherzustellen\, dass unsere Veranstaltungen für alle Beteiligten von höchster Qualität sind. Wir unterstützen Sie dabei\, sich von der Masse abzuheben und Ihre Marke erfolgreich zu positionieren. \nUm Sie über diese spannende Möglichkeit zu informieren\, veranstalten wir exklusive kostenlose Informationsveranstaltungen für Designer*innen und Brands. Sichern Sie sich einen der kostenlosen limitierten Plätze und erfahren Sie mehr darüber\, wie Sie von dieser einzigartigen Gelegenheit profitieren könnt. \nDie Veranstaltungen finden online statt:\nam 04. März 2025 um 15:00 bis 16:00 Uhr statt. \nSie haben Fragen? Kein Problem\, wir beantworten sie gerne! Wie Sie sich als Designer*innen/Brand bewerben können\, wie viele Plätze noch frei sind\, wann es weitere Termine gibt\, Wie weit müssen Sie als Brand oder Designer sein\, um mitzumachen? Unsere Experten von der 5th Avenue Princess und dem Handelsverband Baden-Württemberg stehen Ihnen gerne bei der Informations-Veranstaltung zur Verfügung und beantworten all Ihre Fragen. \nNutzen Sie Ihre Chance\, sich als Designer*innen und Brands zu präsentieren und von diesem einzigartigen Austausch zu profitieren. Melden Sie sich jetzt an und sichern Sie sich Ihren kostenlosen Platz – bevor es zu spät ist! \nHerzliche Grüße Ihr Team von 5th Avenue Princess mit Frau Mirjam Grossmann & dem Handelsverband Baden. Wir freuen uns auf euch! \nHier können Sie sich kostenlos Anmelden \n Hier Anmelden\n  \nSollten Sie noch Fragen haben\, zögern Sie nicht uns zu kontaktieren. Nutzen Sie gerne hierzu das Kontaktformular :  \n\n← Zurück Vielen Dank für deine Antwort. ✨\n\n\n					\n						\n							\n							\n						\n						\n						\n						\n						\n							\n								\n									\n										\n										\n									\n									\n										\n										\n									\n								\n							\n						\n						\n							\n								\n									\n									\n										\n									\n									\n									\n								\n							\n						\n					\n				\n\n\n\nName(erforderlich)\n\n \n			\n				\n					\n						\n						\n						\n					\n				\n				\n			 \n	\n\n\nE-Mail(erforderlich)\n\n \n			\n				\n					\n						\n						\n						\n					\n				\n				\n			 \n	\n\n\nWebsite\n\n \n			\n				\n					\n						\n						\n						\n					\n				\n				\n			 \n	\n\n\nNachricht\n\n \n			\n				\n					\n						\n						\n						\n					\n				\n				\n			\n	\n	\n\n				\n					\n				\n						Senden		\n		\n		\n	 \nΔ
URL:https://5thavenueprincess.com/event/info-veranstaltung-fuer-brands-designer-innen
LOCATION:Handelsverband Baden Württemberg per ZOOM / Digitalveranstaltung\, Neue Weinsteige 44\, Stuttgart\, Baden-Württemberg\, 70180\, Deutschland
CATEGORIES:BRANDS MEET FASHION & MORE
ATTACH;FMTTYPE=image/jpeg:https://5thavenueprincess.com/wp-content/uploads/2023/02/5th-Avenue-Princess_Infoveranstaltung-1.jpg
ORGANIZER;CN="5th Avenue Princess":MAILTO:kontakt@5thavenueprincess.com
END:VEVENT
END:VCALENDAR